BEGIN:VCALENDAR
VERSION:2.0
PRODID:Ginástica Sénior
X-WR-CALNAME:Ginástica Sénior
X-WR-TIMEZONE:Europe/Lisbon
X-PUBLISHED-TTL:P1W
BEGIN:VTIMEZONE
TZID:Europe/Lisbon
X-LIC-LOCATION:Europe/Lisbon
END:VTIMEZONE
BEGIN:VEVENT
UID:69e8d73b2427f
DTSTART;VALUE=DATE:20260427
SEQUENCE:0
TRANSP:OPAQUE
DTEND;VALUE=DATE:20260428
SUMMARY:Ginástica Sénior
CLASS:PUBLIC
DESCRIPTION:Mover o corpo é dar vida aos anos! ​Queremos que a nossa com
 unidade se mantenha ativa\, saudável e\, acima de tudo\, feliz! A Junta d
 e Freguesia de Carvalhal Benfeito convida todos os nossos seniores a parti
 ciparem nas nossas Aulas de Ginástica Sénior.​Mais do que exercício\,
  estes são momentos de convívio\, partilha e muita boa disposição.​ 
 Onde: Campo de Jogos em frente à igreja Quando: Segunda-feira (aula exper
 imental)  Horário: 10h​Não deixe a saúde para amanhã. Inscreva-se j
 á!​ Inscrições e Informações:​Presencialmente na sede da Junta de
  Freguesia​Através do telefone: 262927865/918625682​Esperamos por si!
  
X-MICROSOFT-CDO-ALLDAYEVENT:TRUE
DTSTAMP:20260422T141211Z
END:VEVENT
END:VCALENDAR